BEGIN:VCALENDAR
VERSION:2.0
PRODID:-//Park and Recreation - Prince Georges County MD - ECPv6.15.18//NONSGML v1.0//EN
CALSCALE:GREGORIAN
METHOD:PUBLISH
X-WR-CALNAME:Park and Recreation - Prince Georges County MD
X-ORIGINAL-URL:https://police.pgparks.com
X-WR-CALDESC:Events for Park and Recreation - Prince Georges County MD
REFRESH-INTERVAL;VALUE=DURATION:PT1H
X-Robots-Tag:noindex
X-PUBLISHED-TTL:PT1H
BEGIN:VTIMEZONE
TZID:America/New_York
BEGIN:DAYLIGHT
TZOFFSETFROM:-0500
TZOFFSETTO:-0400
TZNAME:EDT
DTSTART:20250309T070000
END:DAYLIGHT
BEGIN:STANDARD
TZOFFSETFROM:-0400
TZOFFSETTO:-0500
TZNAME:EST
DTSTART:20251102T060000
END:STANDARD
BEGIN:DAYLIGHT
TZOFFSETFROM:-0500
TZOFFSETTO:-0400
TZNAME:EDT
DTSTART:20260308T070000
END:DAYLIGHT
BEGIN:STANDARD
TZOFFSETFROM:-0400
TZOFFSETTO:-0500
TZNAME:EST
DTSTART:20261101T060000
END:STANDARD
BEGIN:DAYLIGHT
TZOFFSETFROM:-0500
TZOFFSETTO:-0400
TZNAME:EDT
DTSTART:20270314T070000
END:DAYLIGHT
BEGIN:STANDARD
TZOFFSETFROM:-0400
TZOFFSETTO:-0500
TZNAME:EST
DTSTART:20271107T060000
END:STANDARD
END:VTIMEZONE
BEGIN:VEVENT
DTSTART;TZID=America/New_York:20260501T190000
DTEND;TZID=America/New_York:20260501T220000
DTSTAMP:20260420T212527
CREATED:20260313T195035Z
LAST-MODIFIED:20260316T160409Z
UID:10002466-1777662000-1777672800@police.pgparks.com
SUMMARY:Get Up\, Get Active!
DESCRIPTION:Get up! Get active! Join us for a high-energy teen night packed with a live Zumba class and fun\, competitive games that will keep you moving\, laughing\, and hyped all night. Fitness has never been this fun!
URL:https://police.pgparks.com/event_list/get-up-get-active
CATEGORIES:Free,May is Fitness Month,Teens
ATTACH;FMTTYPE=image/jpeg:https://police.pgparks.com/wp-content/uploads/2026/03/Get-up-get-active-2026-600x400-1.jpg
END:VEVENT
BEGIN:VEVENT
DTSTART;TZID=America/New_York:20260502T080000
DTEND;TZID=America/New_York:20260502T090000
DTSTAMP:20260420T212527
CREATED:20260319T143235Z
LAST-MODIFIED:20260323T172124Z
UID:10003084-1777708800-1777712400@police.pgparks.com
SUMMARY:Fitness in the Parks - Full Body Sculpt: Strength & Conditioning  
DESCRIPTION:Join us for an energetic\, outdoor fitness class that is designed to engage and strengthen every major muscle group. This workout program integrates body weight exercises\, cardiovascular endurance\, and functional movements which help with the development of lean muscle and improved mobility\, with the accountability and support of group training.
URL:https://police.pgparks.com/event_list/fitness-in-the-parks-full-body-sculpt-strength-conditioning-2/2026-05-02
CATEGORIES:Free,May is Fitness Month
ATTACH;FMTTYPE=image/jpeg:https://police.pgparks.com/wp-content/uploads/2025/02/Fitness-in-the-Parks-Full-Body-Sculpt-Resistance-Training-NEW-Location-400x400-1.jpg
END:VEVENT
BEGIN:VEVENT
DTSTART;TZID=America/New_York:20260502T100000
DTEND;TZID=America/New_York:20260502T140000
DTSTAMP:20260420T212527
CREATED:20260313T185349Z
LAST-MODIFIED:20260417T175018Z
UID:10002450-1777716000-1777730400@police.pgparks.com
SUMMARY:Health and Wellness Fair
DESCRIPTION:Join us at the Southern Area Aquatic and Recreation Complex for a fun and exciting health fair designed to promote wellness and fitness education\, and encourage healthier lifestyles.
URL:https://police.pgparks.com/event_list/health-and-wellness-fair
CATEGORIES:18 and up,Free,Health & Wellness,May is Fitness Month,Special Event
ATTACH;FMTTYPE=image/jpeg:https://police.pgparks.com/wp-content/uploads/2026/03/Health-Fair-2026-600x400-1.jpg
END:VEVENT
BEGIN:VEVENT
DTSTART;TZID=America/New_York:20260502T100000
DTEND;TZID=America/New_York:20260502T150000
DTSTAMP:20260420T212527
CREATED:20260402T123623Z
LAST-MODIFIED:20260417T174733Z
UID:10003287-1777716000-1777734000@police.pgparks.com
SUMMARY:Adventure Seekers: Outdoor Adventures: Jug Bay Wetlands Sanctuary in Lothian\, MD
DESCRIPTION:Celebrate exploration as you lift your spirits\, expand your mind\, and build fun relationships with other adventurers through canoeing\, hiking\, museums\, and trips to natural and historical sites. With the D.C. metro area full of discoveries\, find adventure all around the region.
URL:https://police.pgparks.com/event_list/adventure-seekers-outdoor-adventures-jug-bay-wetlands-sanctuary-lothian-md
CATEGORIES:May is Fitness Month,Nature & Outdoor,Youth
ATTACH;FMTTYPE=image/jpeg:https://police.pgparks.com/wp-content/uploads/2026/04/MRNC-Adventure-Seekers-2.jpg
END:VEVENT
BEGIN:VEVENT
DTSTART;TZID=America/New_York:20260502T120000
DTEND;TZID=America/New_York:20260502T130000
DTSTAMP:20260420T212527
CREATED:20260313T203820Z
LAST-MODIFIED:20260316T162257Z
UID:10002584-1777723200-1777726800@police.pgparks.com
SUMMARY:Bollywood Fit Flow Dance Workshop
DESCRIPTION:Kick off May is Fitness Month with a high-energy Bollywood Fit Flow at Harmony Hall\, a dance session full of rhythm\, movement\, and fun! After the session\, head to the first floor lobby for a lively Asian American & Pacific Islander Heritage Month celebration featuring delicious food\, engaging entertainment\, and a meaningful tribute to AAPI culture. FREE for all ages.
URL:https://police.pgparks.com/event_list/bollywood-fit-flow-dance-workshop
CATEGORIES:All Ages,Free,May is Fitness Month,Public Reception,Workshops
ATTACH;FMTTYPE=image/jpeg:https://police.pgparks.com/wp-content/uploads/2026/03/Bollywood-Fit-Flow-2026-600x400-1.jpg
END:VEVENT
BEGIN:VEVENT
DTSTART;TZID=America/New_York:20260504T083000
DTEND;TZID=America/New_York:20260504T093000
DTSTAMP:20260420T212527
CREATED:20260319T144837Z
LAST-MODIFIED:20260323T171406Z
UID:10003093-1777883400-1777887000@police.pgparks.com
SUMMARY:Fitness in the Parks - Urban Line Dancing   
DESCRIPTION:Let your creativity loose on the outdoor dance floor! Learn all the latest dances\, suitable for beginners and seasoned line dancers. Enjoy this great way to exercise\, socialize\, and energize yourself.
URL:https://police.pgparks.com/event_list/fitness-in-the-parks-urban-line-dancing-2/2026-05-04
CATEGORIES:Free,May is Fitness Month
ATTACH;FMTTYPE=image/jpeg:https://police.pgparks.com/wp-content/uploads/2025/02/Fitness-in-the-Parks-Urban-Line-Dancing-400x400-1.jpg
END:VEVENT
BEGIN:VEVENT
DTSTART;TZID=America/New_York:20260504T083000
DTEND;TZID=America/New_York:20260504T103000
DTSTAMP:20260420T212527
CREATED:20260313T155659Z
LAST-MODIFIED:20260417T172327Z
UID:10002432-1777883400-1777890600@police.pgparks.com
SUMMARY:Club 300 Walk at Patuxent River Park
DESCRIPTION:Come out and join the Club 300 Senior Walking Club and park naturalists as we explore beautiful Patuxent River Park! \n\n\n\nMeet at the picnic pavilion entrance (second entrance).
URL:https://police.pgparks.com/event_list/club-300-walk-at-patuxent-river-park
CATEGORIES:Free,May is Fitness Month,Senior,Walks/Runs
ATTACH;FMTTYPE=image/jpeg:https://police.pgparks.com/wp-content/uploads/2026/03/Club-300-Walk-2026-600x400-1.jpg
END:VEVENT
BEGIN:VEVENT
DTSTART;TZID=America/New_York:20260504T093000
DTEND;TZID=America/New_York:20260504T123000
DTSTAMP:20260420T212527
CREATED:20260313T163944Z
LAST-MODIFIED:20260316T161529Z
UID:10002439-1777887000-1777897800@police.pgparks.com
SUMMARY:Senior Pickleball
DESCRIPTION:Come out and try the sport that’s taking the country by storm—pickleball! Bring a friend\, grab your paddle\, and enjoy a fun way to stay active and healthy.
URL:https://police.pgparks.com/event_list/senior-pickleball
CATEGORIES:Free,May is Fitness Month,Senior
ATTACH;FMTTYPE=image/jpeg:https://police.pgparks.com/wp-content/uploads/2026/03/Seniore-Pickleball-1-2026-600x400-1.jpg
END:VEVENT
BEGIN:VEVENT
DTSTART;TZID=America/New_York:20260504T100000
DTEND;TZID=America/New_York:20260504T140000
DTSTAMP:20260420T212527
CREATED:20260313T190907Z
LAST-MODIFIED:20260316T161208Z
UID:10002455-1777888800-1777903200@police.pgparks.com
SUMMARY:Senior Pickleball
DESCRIPTION:Join our senior community for a fun and active game of pickleball! This popular sport combines elements of tennis\, badminton\, and ping-pong and can be played indoors or outdoors on a badminton-sized court with a slightly modified tennis net. Players use a paddle and a plastic ball with holes\, making it easy to learn and enjoyable for all skill levels.
URL:https://police.pgparks.com/event_list/senior-pickleball-3
CATEGORIES:Free,May is Fitness Month,Senior
ATTACH;FMTTYPE=image/jpeg:https://police.pgparks.com/wp-content/uploads/2026/03/Seniore-Pickleball-1-2026-600x400-1.jpg
END:VEVENT
BEGIN:VEVENT
DTSTART;TZID=America/New_York:20260504T181500
DTEND;TZID=America/New_York:20260504T204500
DTSTAMP:20260420T212527
CREATED:20260320T144019Z
LAST-MODIFIED:20260323T170855Z
UID:10003122-1777918500-1777927500@police.pgparks.com
SUMMARY:May The Fitness Be With You - Senior Pickleball
DESCRIPTION:Join us on May 4 for a fun-filled Senior Pickleball Day\, where the Force is strong with this game! Whether you’re a seasoned Jedi of the court or a Padawan just learning the ways of pickleball\, this event is all about friendly competition\, laughter\, and community. Enjoy lighthearted matches\, galactic-themed fun\, and plenty of chances to show off your best outer-space spirit. Players will experience a welcoming\, senior-friendly atmosphere focused on movement\, connection\, and fun — no dark side here! So grab your paddle\, trust your instincts\, and remember: May the fitness be with you… on the pickleball court!
URL:https://police.pgparks.com/event_list/may-the-fitness-be-with-you-senior-pickleball
CATEGORIES:Free,May is Fitness Month,Senior
ATTACH;FMTTYPE=image/jpeg:https://police.pgparks.com/wp-content/uploads/2026/03/Seniore-Pickleball-2026-600x400-1.jpg
END:VEVENT
BEGIN:VEVENT
DTSTART;TZID=America/New_York:20260504T183000
DTEND;TZID=America/New_York:20260504T193000
DTSTAMP:20260420T212527
CREATED:20260319T142700Z
LAST-MODIFIED:20260323T170725Z
UID:10003081-1777919400-1777923000@police.pgparks.com
SUMMARY:Fitness in the Parks - Zumba
DESCRIPTION:Dance your way into fitness with this outdoor Zumba® class! The use of multicultural dance themes create a dynamic and exciting total body fitness routine. Experience Zumba’s benefits to your mood\, heart\, and dance skills!
URL:https://police.pgparks.com/event_list/fitness-in-the-parks-zumba-4/2026-05-04
CATEGORIES:Free,May is Fitness Month
ATTACH;FMTTYPE=image/jpeg:https://police.pgparks.com/wp-content/uploads/2026/02/Fitness-in-the-Parks-Zumba-2026-600x400-1.jpg
END:VEVENT
BEGIN:VEVENT
DTSTART;TZID=America/New_York:20260504T190000
DTEND;TZID=America/New_York:20260504T200000
DTSTAMP:20260420T212527
CREATED:20260313T185842Z
LAST-MODIFIED:20260316T161106Z
UID:10002451-1777921200-1777924800@police.pgparks.com
SUMMARY:Abs and Jabs\, Ladies Night
DESCRIPTION:This circuit workout for women incorporates cardio and fundamental boxing techniques in a comfortable environment with upbeat music.
URL:https://police.pgparks.com/event_list/abs-and-jabs-ladies-night
CATEGORIES:18 and up,Free,May is Fitness Month,Teens
ATTACH;FMTTYPE=image/jpeg:https://police.pgparks.com/wp-content/uploads/2026/03/Abd-and-Jabs-2026-600x400-1.jpg
END:VEVENT
BEGIN:VEVENT
DTSTART;TZID=America/New_York:20260505T100000
DTEND;TZID=America/New_York:20260505T110000
DTSTAMP:20260420T212527
CREATED:20260225T204511Z
LAST-MODIFIED:20260402T135902Z
UID:10002079-1777975200-1777978800@police.pgparks.com
SUMMARY:Yoga
DESCRIPTION:Stretch toward your fitness goals! Learn basic yoga to improve health and flexibility through deep breathing and controlled stretching. Reduce stress\, get better sleep\, and build muscle stamina as you practice new or previously learned yoga skills. 
URL:https://police.pgparks.com/event_list/yoga/2026-05-05
CATEGORIES:Free,May is Fitness Month
ATTACH;FMTTYPE=image/jpeg:https://police.pgparks.com/wp-content/uploads/2026/02/Yoga-2026-600x400-1.jpg
END:VEVENT
BEGIN:VEVENT
DTSTART;TZID=America/New_York:20260505T120000
DTEND;TZID=America/New_York:20260505T140000
DTSTAMP:20260420T212527
CREATED:20260313T195644Z
LAST-MODIFIED:20260417T171907Z
UID:10002468-1777982400-1777989600@police.pgparks.com
SUMMARY:Drop-In Tennis
DESCRIPTION:Join us on Tuesdays in May to enjoy our indoor tennis courts.
URL:https://police.pgparks.com/event_list/drop-in-tennis/2026-05-05
CATEGORIES:18 and up,Free,May is Fitness Month
ATTACH;FMTTYPE=image/jpeg:https://police.pgparks.com/wp-content/uploads/2026/03/Drop-in-Tennis-2026-600x400-1.jpg
END:VEVENT
BEGIN:VEVENT
DTSTART;TZID=America/New_York:20260505T123000
DTEND;TZID=America/New_York:20260505T133000
DTSTAMP:20260420T212527
CREATED:20260319T151210Z
LAST-MODIFIED:20260323T165715Z
UID:10003104-1777984200-1777987800@police.pgparks.com
SUMMARY:Fuel for Fitness Cooking Demonstration
DESCRIPTION:Fueling your workouts with nutrient-dense meals is crucial for optimizing performance\, recovery\, and reaching your wellness goals. During this cooking demonstration\, learn how to prepare recipes that are perfect for fueling your body before physical activity. Registration required. All ages welcome; FREE.
URL:https://police.pgparks.com/event_list/fuel-for-fitness-cooking-demonstration
CATEGORIES:All Ages,Free,May is Fitness Month
ATTACH;FMTTYPE=image/jpeg:https://police.pgparks.com/wp-content/uploads/2026/03/Fuel-for-Fitness-2026-600x400-1.jpg
END:VEVENT
BEGIN:VEVENT
DTSTART;TZID=America/New_York:20260505T180000
DTEND;TZID=America/New_York:20260505T200000
DTSTAMP:20260420T212527
CREATED:20260313T175732Z
LAST-MODIFIED:20260316T160810Z
UID:10002447-1778004000-1778011200@police.pgparks.com
SUMMARY:MLB Pitch\, Hit\, and Run
DESCRIPTION:Showcase your baseball skills! Come out and participate in the official skills competition of Major League Baseball. Girls and boys will participate in three different aspects of baseball and softball: throwing\, hitting\, and baserunning. The highest-scoring participants will be eligible to participate in the next level of this competition.
URL:https://police.pgparks.com/event_list/mlb-pitch-hit-and-run
CATEGORIES:Free,May is Fitness Month,Youth
ATTACH;FMTTYPE=image/jpeg:https://police.pgparks.com/wp-content/uploads/2026/03/MLB-pitch-hit-and-run-2036-600x400-1.jpg
END:VEVENT
BEGIN:VEVENT
DTSTART;TZID=America/New_York:20260505T183000
DTEND;TZID=America/New_York:20260505T193000
DTSTAMP:20260420T212527
CREATED:20260313T200133Z
LAST-MODIFIED:20260417T171313Z
UID:10002524-1778005800-1778009400@police.pgparks.com
SUMMARY:Zumba
DESCRIPTION:Join us for free Zumba every Tuesday in May to celebrate National Physical Fitness & Sports Month!
URL:https://police.pgparks.com/event_list/zumba/2026-05-05
CATEGORIES:18 and up,Free,May is Fitness Month
ATTACH;FMTTYPE=image/jpeg:https://police.pgparks.com/wp-content/uploads/2026/03/Zumba-2026-600x400-1.jpg
END:VEVENT
BEGIN:VEVENT
DTSTART;TZID=America/New_York:20260506T080000
DTEND;TZID=America/New_York:20260506T090000
DTSTAMP:20260420T212527
CREATED:20260319T144446Z
LAST-MODIFIED:20260323T165543Z
UID:10003089-1778054400-1778058000@police.pgparks.com
SUMMARY:Fitness in the Parks - AM Sweatshop
DESCRIPTION:Join us for this fun\, effective\, outdoor cardio workout that combines several different workout methods including aerobics and bodyweight strength training. Enjoy a high-energy group environment as you improve your strength and cardiovascular endurance.
URL:https://police.pgparks.com/event_list/fitness-in-the-parks-am-sweatshop-2/2026-05-06
CATEGORIES:Free,May is Fitness Month
ATTACH;FMTTYPE=image/jpeg:https://police.pgparks.com/wp-content/uploads/2025/02/Fitness-in-the-Parks-AM-Sweatshop-400x400-1.jpg
END:VEVENT
BEGIN:VEVENT
DTSTART;TZID=America/New_York:20260506T090000
DTEND;TZID=America/New_York:20260506T133000
DTSTAMP:20260420T212527
CREATED:20260313T191253Z
LAST-MODIFIED:20260316T160541Z
UID:10002456-1778058000-1778074200@police.pgparks.com
SUMMARY:Senior Open Gym
DESCRIPTION:Come join our senior community for a fun game of basketball! Bring a friend or come out and meet new people while staying active and enjoying the game.
URL:https://police.pgparks.com/event_list/senior-open-gym
CATEGORIES:Free,May is Fitness Month,Senior
ATTACH;FMTTYPE=image/jpeg:https://police.pgparks.com/wp-content/uploads/2026/03/Senior-Open-Gym-2026-600x400-1.jpg
END:VEVENT
BEGIN:VEVENT
DTSTART;TZID=America/New_York:20260506T093000
DTEND;TZID=America/New_York:20260506T103000
DTSTAMP:20260420T212527
CREATED:20260225T205531Z
LAST-MODIFIED:20260402T135752Z
UID:10002144-1778059800-1778063400@police.pgparks.com
SUMMARY:Yoga
DESCRIPTION:Stretch toward your fitness goals! Learn basic yoga to improve health and flexibility through deep breathing and controlled stretching. Reduce stress\, get better sleep\, and build muscle stamina as you practice new or previously learned yoga skills. 
URL:https://police.pgparks.com/event_list/yoga-2/2026-05-06
CATEGORIES:Free,May is Fitness Month
ATTACH;FMTTYPE=image/jpeg:https://police.pgparks.com/wp-content/uploads/2026/02/Yoga-2026-600x400-1.jpg
END:VEVENT
BEGIN:VEVENT
DTSTART;TZID=America/New_York:20260506T093000
DTEND;TZID=America/New_York:20260506T123000
DTSTAMP:20260420T212528
CREATED:20260313T165634Z
LAST-MODIFIED:20260316T160157Z
UID:10002441-1778059800-1778070600@police.pgparks.com
SUMMARY:Pickle Ball
DESCRIPTION:Come out and experience the sport that’s taking the country by storm—pickleball! Bring a friend\, grab your paddle\, and enjoy a fun way to stay active and healthy.
URL:https://police.pgparks.com/event_list/pickle-ball
CATEGORIES:18 and up,Free,May is Fitness Month
ATTACH;FMTTYPE=image/jpeg:https://police.pgparks.com/wp-content/uploads/2026/03/Pickleball-2026-600x400-1.jpg
END:VEVENT
BEGIN:VEVENT
DTSTART;TZID=America/New_York:20260506T113000
DTEND;TZID=America/New_York:20260506T123000
DTSTAMP:20260420T212528
CREATED:20260319T145901Z
LAST-MODIFIED:20260323T165138Z
UID:10003102-1778067000-1778070600@police.pgparks.com
SUMMARY:Healthy Blood Pressure Cooking Demonstration
DESCRIPTION:Eating for heart health is key to managing blood pressure and staying active. Join us to learn how to create flavorful\, blood-pressure-friendly meals and snacks that support your energy and overall wellness. Registration required. All ages welcome; FREE.
URL:https://police.pgparks.com/event_list/healthy-blood-pressure-cooking-demonstration
CATEGORIES:All Ages,Free,May is Fitness Month
ATTACH;FMTTYPE=image/jpeg:https://police.pgparks.com/wp-content/uploads/2026/03/Healthy-Blood-Pressure-2026-600x400-1.jpg
END:VEVENT
BEGIN:VEVENT
DTSTART;TZID=America/New_York:20260506T120000
DTEND;TZID=America/New_York:20260506T140000
DTSTAMP:20260420T212528
CREATED:20260313T210614Z
LAST-MODIFIED:20260417T171321Z
UID:10002591-1778068800-1778076000@police.pgparks.com
SUMMARY:Free Drop-In Tennis
DESCRIPTION:Join us on Wednesdays in May to enjoy our indoor tennis courts.
URL:https://police.pgparks.com/event_list/free-drop-in-tennis/2026-05-06
CATEGORIES:18 and up,Free,May is Fitness Month,Sports
ATTACH;FMTTYPE=image/jpeg:https://police.pgparks.com/wp-content/uploads/2026/03/Drop-in-Tennis-2026-600x400-1.jpg
END:VEVENT
BEGIN:VEVENT
DTSTART;TZID=America/New_York:20260506T140000
DTEND;TZID=America/New_York:20260506T150000
DTSTAMP:20260420T212528
CREATED:20251111T222642Z
LAST-MODIFIED:20260317T150027Z
UID:10000127-1778076000-1778079600@police.pgparks.com
SUMMARY:Immersive Sound Meditation
DESCRIPTION:May is National Physical Fitness & Sports Month! Take a trip to a calming destination as the Publick Playhouse stage transforms into a peaceful retreat. Sound Meditation provides an opportunity to slow down and dive deeper into a state of relaxation to bring balance to your mental\, physical and spiritual health. The use of instruments such as crystal and Himalayan singing bowls\, chimes\, bells\, gong and voice blend together to invite the mind to a state of calm and the body to release held emotions and tension. Whether you are looking to try something new\, meditate or seek a moment of peace\, sound meditation can help you do it. Space is limited; advanced registration is recommended.
URL:https://police.pgparks.com/event_list/immersive-sound-meditation
CATEGORIES:18 and up,Arts,Health & Wellness,May is Fitness Month,Special Event
ATTACH;FMTTYPE=image/jpeg:https://police.pgparks.com/wp-content/uploads/2025/07/Meditation-400x400-1.jpg
END:VEVENT
BEGIN:VEVENT
DTSTART;TZID=America/New_York:20260506T180000
DTEND;TZID=America/New_York:20260506T190000
DTSTAMP:20260420T212528
CREATED:20260313T200510Z
LAST-MODIFIED:20260413T170417Z
UID:10002580-1778090400-1778094000@police.pgparks.com
SUMMARY:Yoga on the Patio
DESCRIPTION:Guests will enjoy a relaxing yoga session on our outdoor patio and watch the sunset. \n\n\n\nWhat to Bring:Yoga matComfortable clothingWater bottlePositive energy and a smile!(All levels welcome)
URL:https://police.pgparks.com/event_list/yoga-on-the-patio
CATEGORIES:All Ages,Free,May is Fitness Month
ATTACH;FMTTYPE=image/jpeg:https://police.pgparks.com/wp-content/uploads/2026/03/Yoga-on-the-Patio-2026-600x400-1.jpg
END:VEVENT
BEGIN:VEVENT
DTSTART;TZID=America/New_York:20260506T180000
DTEND;TZID=America/New_York:20260506T190000
DTSTAMP:20260420T212528
CREATED:20260319T141026Z
LAST-MODIFIED:20260323T164943Z
UID:10002913-1778090400-1778094000@police.pgparks.com
SUMMARY:Fitness in the Parks - Circuit Workout
DESCRIPTION:Shake up your routine with this dynamic Circuit Workout! Move through a series of timed exercises that target strength\, cardio\, and endurance — perfect for a full-body challenge. Work at your own pace with options for all fitness levels. Please bring a mat or towel.
URL:https://police.pgparks.com/event_list/fitness-in-the-parks-circuit-workout-2/2026-05-06
CATEGORIES:Free,May is Fitness Month
ATTACH;FMTTYPE=image/jpeg:https://police.pgparks.com/wp-content/uploads/2026/03/FITP-Circuit-Workout-2026-600x400-1.jpg
END:VEVENT
BEGIN:VEVENT
DTSTART;TZID=America/New_York:20260507T100000
DTEND;TZID=America/New_York:20260507T150000
DTSTAMP:20260420T212528
CREATED:20260319T145335Z
LAST-MODIFIED:20260323T164757Z
UID:10003100-1778148000-1778166000@police.pgparks.com
SUMMARY:Senior Pickleball
DESCRIPTION:Join us for a fun-filled day of friendly competition and great company! Whether you’re a seasoned player or new to the game\, this event is a wonderful opportunity to stay active\, sharpen your skills\, and connect with fellow pickleball enthusiasts in a welcoming and supportive environment.
URL:https://police.pgparks.com/event_list/senior-pickleball-4
CATEGORIES:Free,May is Fitness Month,Senior
ATTACH;FMTTYPE=image/jpeg:https://police.pgparks.com/wp-content/uploads/2026/03/Seniore-Pickleball-1-2026-600x400-1.jpg
END:VEVENT
BEGIN:VEVENT
DTSTART;TZID=America/New_York:20260507T103000
DTEND;TZID=America/New_York:20260507T113000
DTSTAMP:20260420T212528
CREATED:20260313T172401Z
LAST-MODIFIED:20260316T155642Z
UID:10002445-1778149800-1778153400@police.pgparks.com
SUMMARY:Tai Chi
DESCRIPTION:Find greater calm and balance through Tai Chi. This non-competitive\, self-paced practice is a relaxing\, ancient form of exercise that supports balance\, flexibility\, stretching\, and muscle tone. Through gentle\, slow movements — often in small\, circular patterns — combined with deep breathing\, you’ll improve focus and overall well-being. Tai Chi can be adapted for individuals with joint\, muscle\, or back concerns\, making it accessible for many ability levels.
URL:https://police.pgparks.com/event_list/tai-chi-2
CATEGORIES:Free,May is Fitness Month,Senior
ATTACH;FMTTYPE=image/jpeg:https://police.pgparks.com/wp-content/uploads/2026/03/Tai-Chi-2026-600x400-1.jpg
END:VEVENT
BEGIN:VEVENT
DTSTART;TZID=America/New_York:20260507T120000
DTEND;TZID=America/New_York:20260507T140000
DTSTAMP:20260420T212528
CREATED:20260313T210815Z
LAST-MODIFIED:20260417T170334Z
UID:10002647-1778155200-1778162400@police.pgparks.com
SUMMARY:Free Drop-In Tennis
DESCRIPTION:Join us on Wednesdays in May to enjoy our indoor tennis courts.
URL:https://police.pgparks.com/event_list/free-drop-in-tennis-2/2026-05-07
CATEGORIES:18 and up,Free,May is Fitness Month,Sports
ATTACH;FMTTYPE=image/jpeg:https://police.pgparks.com/wp-content/uploads/2026/03/Drop-in-Tennis-2026-600x400-1.jpg
END:VEVENT
BEGIN:VEVENT
DTSTART;TZID=America/New_York:20260507T130000
DTEND;TZID=America/New_York:20260507T140000
DTSTAMP:20260420T212528
CREATED:20260313T171351Z
LAST-MODIFIED:20260316T155359Z
UID:10002443-1778158800-1778162400@police.pgparks.com
SUMMARY:A Stroll Down Memory Lane
DESCRIPTION:Join “Ms. Betty” as she employs a combination of exercises\, trivia games\, and charades in this fitness activity hour. These triathlons of activities are designed for fun\, physical movement\, and memory.
URL:https://police.pgparks.com/event_list/a-stroll-down-memory-lane
CATEGORIES:Free,May is Fitness Month,Senior
ATTACH;FMTTYPE=image/jpeg:https://police.pgparks.com/wp-content/uploads/2026/03/A-stroll-down-Memory-Land-2026-600x400-1.jpg
END:VEVENT
END:VCALENDAR