BEGIN:VCALENDAR
VERSION:2.0
PRODID:-//Park and Recreation - Prince Georges County MD - ECPv6.15.18//NONSGML v1.0//EN
CALSCALE:GREGORIAN
METHOD:PUBLISH
X-WR-CALNAME:Park and Recreation - Prince Georges County MD
X-ORIGINAL-URL:https://police.pgparks.com
X-WR-CALDESC:Events for Park and Recreation - Prince Georges County MD
REFRESH-INTERVAL;VALUE=DURATION:PT1H
X-Robots-Tag:noindex
X-PUBLISHED-TTL:PT1H
BEGIN:VTIMEZONE
TZID:America/New_York
BEGIN:DAYLIGHT
TZOFFSETFROM:-0500
TZOFFSETTO:-0400
TZNAME:EDT
DTSTART:20250309T070000
END:DAYLIGHT
BEGIN:STANDARD
TZOFFSETFROM:-0400
TZOFFSETTO:-0500
TZNAME:EST
DTSTART:20251102T060000
END:STANDARD
BEGIN:DAYLIGHT
TZOFFSETFROM:-0500
TZOFFSETTO:-0400
TZNAME:EDT
DTSTART:20260308T070000
END:DAYLIGHT
BEGIN:STANDARD
TZOFFSETFROM:-0400
TZOFFSETTO:-0500
TZNAME:EST
DTSTART:20261101T060000
END:STANDARD
BEGIN:DAYLIGHT
TZOFFSETFROM:-0500
TZOFFSETTO:-0400
TZNAME:EDT
DTSTART:20270314T070000
END:DAYLIGHT
BEGIN:STANDARD
TZOFFSETFROM:-0400
TZOFFSETTO:-0500
TZNAME:EST
DTSTART:20271107T060000
END:STANDARD
END:VTIMEZONE
BEGIN:VEVENT
DTSTART;TZID=America/New_York:20260424T103000
DTEND;TZID=America/New_York:20260424T114500
DTSTAMP:20260421T003003
CREATED:20251111T222620Z
LAST-MODIFIED:20260220T174950Z
UID:10000061-1777026600-1777031100@police.pgparks.com
SUMMARY:Dallas Black Dance Theatre (School Groups Only)
DESCRIPTION:Middle & High School students can enjoy an abbreviated performance from the acclaimed Dallas Black Dance Theatre (DBDT)\, including a brief talkback after the show. For nearly 50 years\, DBDT has mesmerized audiences with its spellbinding performances and educational programs that bridge cultures and reach diverse communities. Founded in 1976\, DBDT is the oldest\, continuously operating professional dance company in Dallas. The ensemble\, a contemporary modern dance company\, consists of experienced\, full-time dancers performing a mixed repertory of modern\, jazz\, ethnic\, and spiritual works by nationally and internationally known choreographers. Their repertoire includes works by Alvin Ailey\, Elisa Monte\, Milton Myers\, Asadata Dafora\, Matthew Rushing\, Christopher L. Huggins\, Twyla Tharp\, and others. For Grades 7-12. Groups of 20+ can call 301-277-1710 for Group Sales or fill out the online request form.
URL:https://police.pgparks.com/event_list/dallas-black-dance-theatre-school-groups-only
CATEGORIES:Arts,Dance Showcases,Performance,Performances,Teens
ATTACH;FMTTYPE=image/png:https://police.pgparks.com/wp-content/uploads/2025/11/PPH-DBDT-Platinum-1796.png
END:VEVENT
END:VCALENDAR