BEGIN:VCALENDAR
VERSION:2.0
PRODID:-//Park and Recreation - Prince Georges County MD - ECPv6.15.18//NONSGML v1.0//EN
CALSCALE:GREGORIAN
METHOD:PUBLISH
X-WR-CALNAME:Park and Recreation - Prince Georges County MD
X-ORIGINAL-URL:https://police.pgparks.com
X-WR-CALDESC:Events for Park and Recreation - Prince Georges County MD
REFRESH-INTERVAL;VALUE=DURATION:PT1H
X-Robots-Tag:noindex
X-PUBLISHED-TTL:PT1H
BEGIN:VTIMEZONE
TZID:America/New_York
BEGIN:DAYLIGHT
TZOFFSETFROM:-0500
TZOFFSETTO:-0400
TZNAME:EDT
DTSTART:20250309T070000
END:DAYLIGHT
BEGIN:STANDARD
TZOFFSETFROM:-0400
TZOFFSETTO:-0500
TZNAME:EST
DTSTART:20251102T060000
END:STANDARD
BEGIN:DAYLIGHT
TZOFFSETFROM:-0500
TZOFFSETTO:-0400
TZNAME:EDT
DTSTART:20260308T070000
END:DAYLIGHT
BEGIN:STANDARD
TZOFFSETFROM:-0400
TZOFFSETTO:-0500
TZNAME:EST
DTSTART:20261101T060000
END:STANDARD
BEGIN:DAYLIGHT
TZOFFSETFROM:-0500
TZOFFSETTO:-0400
TZNAME:EDT
DTSTART:20270314T070000
END:DAYLIGHT
BEGIN:STANDARD
TZOFFSETFROM:-0400
TZOFFSETTO:-0500
TZNAME:EST
DTSTART:20271107T060000
END:STANDARD
END:VTIMEZONE
BEGIN:VEVENT
DTSTART;TZID=America/New_York:20260421T110000
DTEND;TZID=America/New_York:20260421T120000
DTSTAMP:20260420T102712
CREATED:20260227T145046Z
LAST-MODIFIED:20260227T215255Z
UID:10002324-1776769200-1776772800@police.pgparks.com
SUMMARY:Farm Story & Craft: Spring
DESCRIPTION:Come on down to the farm for a spring-themed story and craft\, followed by a garden tour!
URL:https://police.pgparks.com/event_list/farm-story-craft-spring
CATEGORIES:Lifestyle & Learning,Nature & Outdoor,Youth
ATTACH;FMTTYPE=image/png:https://police.pgparks.com/wp-content/uploads/2025/06/Farm-Craft-400x400-1.png
END:VEVENT
BEGIN:VEVENT
DTSTART;TZID=America/New_York:20260423T110000
DTEND;TZID=America/New_York:20260423T114500
DTSTAMP:20260420T102712
CREATED:20260401T144933Z
LAST-MODIFIED:20260417T202352Z
UID:10003268-1776942000-1776944700@police.pgparks.com
SUMMARY:Toddler Time: Earth Day
DESCRIPTION:Give your little one a head start in understanding the importance of the environment through hands‑on activities\, stories\, songs\, crafts\, and nature exploration\, with each class focusing on a different theme about animals\, plants\, and habitats. Use your senses to learn\, sing\, and enjoy nature with us. Children must be accompanied by an adult.
URL:https://police.pgparks.com/event_list/toddler-time-earth-day
CATEGORIES:Lifestyle & Learning,Nature & Outdoor,Youth
ATTACH;FMTTYPE=image/jpeg:https://police.pgparks.com/wp-content/uploads/2023/08/MRNC-Live-Animals.jpg
END:VEVENT
BEGIN:VEVENT
DTSTART;TZID=America/New_York:20260423T110000
DTEND;TZID=America/New_York:20260423T120000
DTSTAMP:20260420T102712
CREATED:20260225T183420Z
LAST-MODIFIED:20260317T145538Z
UID:10001704-1776942000-1776945600@police.pgparks.com
SUMMARY:Hypertension Workshop
DESCRIPTION:This educational session explores essential strategies for managing and preventing hypertension. Participants will learn about risk factors\, lifestyle modifications\, and the impact of nutrition and exercise on blood pressure control. The workshop provides practical tools for maintaining heart health and reducing the likelihood of developing hypertension\, empowering attendees to take charge of their well-being. Stay after the session for a free health screening! Ages 18 & up; FREE.
URL:https://police.pgparks.com/event_list/hypertension-workshop-2-2
CATEGORIES:18 and up,Free,Health & Wellness,Lifestyle & Learning,Workshops
ATTACH;FMTTYPE=image/jpeg:https://police.pgparks.com/wp-content/uploads/2026/02/Fueling-Wellness-with-Fiber-2026-600x400-1.jpg
END:VEVENT
BEGIN:VEVENT
DTSTART;TZID=America/New_York:20260423T130000
DTEND;TZID=America/New_York:20260423T140000
DTSTAMP:20260420T102712
CREATED:20260227T144501Z
LAST-MODIFIED:20260312T171943Z
UID:10002323-1776949200-1776952800@police.pgparks.com
SUMMARY:Farm Science: Incredible Eggs
DESCRIPTION:Join us for hands-on experiments and games that teach you all about eggs. Learn how strong eggs are\, what’s inside\, and which animals lay them\, then meet the farm’s resident egg layers!
URL:https://police.pgparks.com/event_list/farm-science-incredible-eggs
CATEGORIES:Lifestyle & Learning,Nature & Outdoor,Youth
ATTACH;FMTTYPE=image/jpeg:https://police.pgparks.com/wp-content/uploads/2026/02/OMF-Kids-and-Chickens.jpg
END:VEVENT
BEGIN:VEVENT
DTSTART;TZID=America/New_York:20260424T130000
DTEND;TZID=America/New_York:20260424T140000
DTSTAMP:20260420T102712
CREATED:20260227T142939Z
LAST-MODIFIED:20260312T160506Z
UID:10002318-1777035600-1777039200@police.pgparks.com
SUMMARY:April Family Farm Tour
DESCRIPTION:Take a guided tour of Old Maryland Farm and get up close with the animals! Learn about daily farm life and enjoy exclusive access to behind-the-scenes areas.
URL:https://police.pgparks.com/event_list/april-family-farm-tour
CATEGORIES:All Ages,Lifestyle & Learning,Nature & Outdoor,Tours,Youth
ATTACH;FMTTYPE=image/jpeg:https://police.pgparks.com/wp-content/uploads/2025/02/Open-barn.jpg
END:VEVENT
BEGIN:VEVENT
DTSTART;TZID=America/New_York:20260425T103000
DTEND;TZID=America/New_York:20260425T113000
DTSTAMP:20260420T102712
CREATED:20260205T151514Z
LAST-MODIFIED:20260224T193056Z
UID:10001201-1777113000-1777116600@police.pgparks.com
SUMMARY:STEAM Hour
DESCRIPTION:Join our educators at this hands-on activity table where creativity takes flight! Perfect for budding engineers and aviation enthusiasts\, this interactive program allows visitors to design and build their own creations. Whether you’re constructing airplanes\, airports\, or inventing something entirely new\, Saturday STEAM Hour encourages you to dream big and bring your ideas to life. Drop in anytime during the hour for an opportunity to explore the wonders of aviation through play. This program is ideal for learners ages 6-12 and is FREE with museum admission. No registration required.
URL:https://police.pgparks.com/event_list/steam-hour-2/2026-04-25
CATEGORIES:250th Anniversary,Free,History,Lifestyle & Learning,Youth
ATTACH;FMTTYPE=image/jpeg:https://police.pgparks.com/wp-content/uploads/2024/11/Lego-AA.jpg
END:VEVENT
BEGIN:VEVENT
DTSTART;TZID=America/New_York:20260425T110000
DTEND;TZID=America/New_York:20260425T120000
DTSTAMP:20260420T102712
CREATED:20260401T145419Z
LAST-MODIFIED:20260417T191800Z
UID:10003269-1777114800-1777118400@police.pgparks.com
SUMMARY:Animal Encounters: Herp Awakening
DESCRIPTION:Come meet the nature center’s live reptiles\, amphibians\, and birds of prey\, and discover how interacting with animals can boost your mood and support mental wellness\, while learning about their natural habitats. Our animal friends look forward to greeting you\, and classes will be held outdoors.
URL:https://police.pgparks.com/event_list/animal-encounters-herp-awakening
CATEGORIES:Lifestyle & Learning,Nature & Outdoor,Teens,Youth
ATTACH;FMTTYPE=image/jpeg:https://police.pgparks.com/wp-content/uploads/2026/04/NatureCommunityDay25-030.jpg
END:VEVENT
BEGIN:VEVENT
DTSTART;TZID=America/New_York:20260426T090000
DTEND;TZID=America/New_York:20260426T113000
DTSTAMP:20260420T102712
CREATED:20260324T160517Z
LAST-MODIFIED:20260324T160531Z
UID:10003155-1777194000-1777203000@police.pgparks.com
SUMMARY:Fishing Trip
DESCRIPTION:Learn about casting\, handling fish\, fishing safety\, and fish biology in this beginner‑friendly\, weather‑dependent program while enjoying a morning of fishing on the Anacostia River from a pontoon boat. Rods and bait are provided (or you may bring your own)\, and children under 16 must be accompanied by a registered adult participant.
URL:https://police.pgparks.com/event_list/fishing-trip
CATEGORIES:Lifestyle & Learning,Nature & Outdoor,Teens,Workshops
ATTACH;FMTTYPE=image/jpeg:https://police.pgparks.com/wp-content/uploads/2023/07/BWP-4_Fishing1.jpg
END:VEVENT
BEGIN:VEVENT
DTSTART;TZID=America/New_York:20260426T103000
DTEND;TZID=America/New_York:20260426T113000
DTSTAMP:20260420T102712
CREATED:20260205T151514Z
LAST-MODIFIED:20260224T193056Z
UID:10001202-1777199400-1777203000@police.pgparks.com
SUMMARY:STEAM Hour
DESCRIPTION:Join our educators at this hands-on activity table where creativity takes flight! Perfect for budding engineers and aviation enthusiasts\, this interactive program allows visitors to design and build their own creations. Whether you’re constructing airplanes\, airports\, or inventing something entirely new\, Saturday STEAM Hour encourages you to dream big and bring your ideas to life. Drop in anytime during the hour for an opportunity to explore the wonders of aviation through play. This program is ideal for learners ages 6-12 and is FREE with museum admission. No registration required.
URL:https://police.pgparks.com/event_list/steam-hour-2/2026-04-26
CATEGORIES:250th Anniversary,Free,History,Lifestyle & Learning,Youth
ATTACH;FMTTYPE=image/jpeg:https://police.pgparks.com/wp-content/uploads/2024/11/Lego-AA.jpg
END:VEVENT
BEGIN:VEVENT
DTSTART;TZID=America/New_York:20260426T120000
DTEND;TZID=America/New_York:20260426T150000
DTSTAMP:20260420T102712
CREATED:20260327T145749Z
LAST-MODIFIED:20260402T134756Z
UID:10003182-1777204800-1777215600@police.pgparks.com
SUMMARY:Riversdale Kitchen Guild: Spring Brunch
DESCRIPTION:Join the Riversdale Kitchen Guild over the open hearth as they prepare a spring brunch using 19th-century cooking techniques.
URL:https://police.pgparks.com/event_list/riversdale-kitchen-guild-spring-brunch
CATEGORIES:All Ages,Free,History,Lifestyle & Learning
ATTACH;FMTTYPE=image/jpeg:https://police.pgparks.com/wp-content/uploads/2026/03/Riversdale-Kitchen-GuildSpring-Brunch-2026-600x400-1.jpg
END:VEVENT
BEGIN:VEVENT
DTSTART;TZID=America/New_York:20260428T130000
DTEND;TZID=America/New_York:20260428T140000
DTSTAMP:20260420T102713
CREATED:20260227T154315Z
LAST-MODIFIED:20260304T142534Z
UID:10002391-1777381200-1777384800@police.pgparks.com
SUMMARY:Growing in the Garden: A 3-Part Learning Series
DESCRIPTION:Give your child a hands‑on introduction to gardening and agriculture through this fun\, three‑session program. Each class encourages kids to explore\, observe\, and record what they discover in the garden. \n\n\n\nThe registration fee covers all three classes.Each session must be attended.Each session builds on the one before it. \n\n\n\nSessions: \n\n\n\nTue\, March 24\, 1-2 pm \n\n\n\nTue\, April 28\, 1-2 pm \n\n\n\nTue\, May 19\, 1-2 pm
URL:https://police.pgparks.com/event_list/growing-in-the-garden/2026-04-28
CATEGORIES:Lifestyle & Learning,Nature & Outdoor,Youth
ATTACH;FMTTYPE=image/jpeg:https://police.pgparks.com/wp-content/uploads/2026/02/OMF-Kids-Planting-2026-600x400-1.jpg
END:VEVENT
BEGIN:VEVENT
DTSTART;TZID=America/New_York:20260430T110000
DTEND;TZID=America/New_York:20260430T114500
DTSTAMP:20260420T102713
CREATED:20260401T150205Z
LAST-MODIFIED:20260417T202212Z
UID:10003270-1777546800-1777549500@police.pgparks.com
SUMMARY:Toddler Time: Leafing out!
DESCRIPTION:Give your little one a head start in understanding the importance of the environment through hands‑on activities\, stories\, songs\, crafts\, and nature exploration\, with each class focusing on a different theme about animals\, plants\, and habitats. Use your senses to learn\, sing\, and enjoy nature with us. Children must be accompanied by an adult.
URL:https://police.pgparks.com/event_list/toddler-time-leafing-out
CATEGORIES:Lifestyle & Learning,Nature & Outdoor,Youth
ATTACH;FMTTYPE=image/jpeg:https://police.pgparks.com/wp-content/uploads/2026/04/MRNC-Toddler-Time-1.jpeg
END:VEVENT
END:VCALENDAR